BEGIN:VCALENDAR
VERSION:2.0
CALSCALE:GREGORIAN
PRODID:-//Diputació de Barcelona//DibaCMS//EN
BEGIN:VEVENT
UID:15068
DTSTAMP:20260423T084739
DTSTART:20220715T170000
DTEND:20220715T170000
SUMMARY:Festa de l'aigua i del comerç
LOCATION:Avinguda Gaudí 08755 Castellbisbal
METHOD:PUBLISH
X-WR-CALNAME:comunicacio@castellbisbal.cat
X-WR-TIMEZONE:Europe/Madrid
DESCRIPTION:A l'avinguda d'Antoni Gaudí, La Bassa

URI:https://www.castellbisbal.cat/actualitat/agenda/festa-de-laigua-i-del-comerc.html
CLASS:PUBLIC
END:VEVENT
END:VCALENDAR
