BEGIN:VCALENDAR
VERSION:2.0
CALSCALE:GREGORIAN
PRODID:-//Diputació de Barcelona//DibaCMS//EN
BEGIN:VEVENT
UID:15076
DTSTAMP:20260423T084901
DTSTART:20220714T180000
DTEND:20220714T180000
SUMMARY:Tarda de bàsquet
LOCATION:C. Agricultura, s/n 08755 Castellbisbal
METHOD:PUBLISH
X-WR-CALNAME:comunicacio@castellbisbal.cat
X-WR-TIMEZONE:Europe/Madrid
DESCRIPTION:A l'Illa Esportiva

URI:https://www.castellbisbal.cat/actualitat/agenda/tarda-de-basquet.html
CLASS:PUBLIC
END:VEVENT
END:VCALENDAR
