BEGIN:VCALENDAR
VERSION:2.0
CALSCALE:GREGORIAN
PRODID:-//Diputació de Barcelona//DibaCMS//EN
BEGIN:VEVENT
UID:15077
DTSTAMP:20260423T052533
DTSTART:20220721T180000
DTEND:20220721T180000
SUMMARY:Premis ping pong
LOCATION:Carrer Francesc Macià, 64 08755 Castellbisbal
METHOD:PUBLISH
X-WR-CALNAME:comunicacio@castellbisbal.cat
X-WR-TIMEZONE:Europe/Madrid
DESCRIPTION:A l'Espai Jove d'Els Costals

URI:https://www.castellbisbal.cat/actualitat/agenda/premis-ping-pong.html
CLASS:PUBLIC
END:VEVENT
END:VCALENDAR
