BEGIN:VCALENDAR
VERSION:2.0
CALSCALE:GREGORIAN
PRODID:-//Diputació de Barcelona//DibaCMS//EN
BEGIN:VEVENT
UID:15088
DTSTAMP:20260424T233400
DTSTART:20220721T180000
DTEND:20220721T180000
SUMMARY:Acte inaugural de remodelació del parc de l'Ermita
LOCATION:Parc de l'Ermita 08755 Castellbisbal
METHOD:PUBLISH
X-WR-CALNAME:comunicacio@castellbisbal.cat
X-WR-TIMEZONE:Europe/Madrid
DESCRIPTION:Al parc de l'Ermita. Fins a les 22.00 hores

URI:https://www.castellbisbal.cat/actualitat/agenda/acte-inaugural-de-remodelacio-del-parc-de-lermita.html
CLASS:PUBLIC
END:VEVENT
END:VCALENDAR
