BEGIN:VCALENDAR
VERSION:2.0
CALSCALE:GREGORIAN
PRODID:-//Diputació de Barcelona//DibaCMS//EN
BEGIN:VEVENT
UID:15090
DTSTAMP:20260424T000256
DTSTART:20220725T190000
DTEND:20220725T190000
SUMMARY:Ple municipal ordinari del mes de juliol
LOCATION:Avinguda de Pau Casals, 9 08755 Castellbisbal
METHOD:PUBLISH
X-WR-CALNAME:comunicacio@castellbisbal.cat
X-WR-TIMEZONE:Europe/Madrid
DESCRIPTION:A la sala de plens de l'Ajuntament

URI:https://www.castellbisbal.cat/actualitat/agenda/ple-municipal-ordinari-del-mes-de-juliol.html
CLASS:PUBLIC
END:VEVENT
END:VCALENDAR
