BEGIN:VCALENDAR
VERSION:2.0
CALSCALE:GREGORIAN
PRODID:-//Diputació de Barcelona//DibaCMS//EN
BEGIN:VEVENT
UID:15094
DTSTAMP:20260424T211721
DTSTART:20220817T190000
DTEND:20220817T190000
SUMMARY:L'Encetada
LOCATION:Plaça del Joc 08755 Castellbisbal
METHOD:PUBLISH
X-WR-CALNAME:comunicacio@castellbisbal.cat
X-WR-TIMEZONE:Europe/Madrid
DESCRIPTION:Activitat itinerant amb inici a la plaça del Joc

URI:https://www.castellbisbal.cat/actualitat/agenda/lencetada.html
CLASS:PUBLIC
END:VEVENT
END:VCALENDAR
