BEGIN:VCALENDAR
VERSION:2.0
CALSCALE:GREGORIAN
PRODID:-//Diputació de Barcelona//DibaCMS//EN
BEGIN:VEVENT
UID:15095
DTSTAMP:20260424T104944
DTSTART:20220821T231500
DTEND:20220821T231500
SUMMARY:Comiat de l'Aigua i la Llum
LOCATION:Parc Folch i Torres 08755 Castellbisbal
METHOD:PUBLISH
X-WR-CALNAME:comunicacio@castellbisbal.cat
X-WR-TIMEZONE:Europe/Madrid
DESCRIPTION:Activitat itinerant amb inici a l'Envelat del parc Folch i Torres

URI:https://www.castellbisbal.cat/actualitat/agenda/comiat-de-laigua-i-la-llum.html
CLASS:PUBLIC
END:VEVENT
END:VCALENDAR
