BEGIN:VCALENDAR
VERSION:2.0
CALSCALE:GREGORIAN
PRODID:-//Diputació de Barcelona//DibaCMS//EN
BEGIN:VEVENT
UID:15098
DTSTAMP:20260423T165651
DTSTART:20220819T180000
DTEND:20220819T180000
SUMMARY:Carrers de circ
LOCATION:Parc Folch i Torres 08755 Castellbisbal
METHOD:PUBLISH
X-WR-CALNAME:comunicacio@castellbisbal.cat
X-WR-TIMEZONE:Europe/Madrid
DESCRIPTION:Activitat itinerant de teatre al carrer amb inici a la plaça de Folch i Torres

URI:https://www.castellbisbal.cat/actualitat/agenda/carrers-de-circ.html
CLASS:PUBLIC
END:VEVENT
END:VCALENDAR
