BEGIN:VCALENDAR
VERSION:2.0
CALSCALE:GREGORIAN
PRODID:-//Diputació de Barcelona//DibaCMS//EN
BEGIN:VEVENT
UID:15099
DTSTAMP:20260423T112725
DTSTART:20220817T180000
DTEND:20220821T235900
SUMMARY:Els imprevistos
LOCATION:
METHOD:PUBLISH
X-WR-CALNAME:comunicacio@castellbisbal.cat
X-WR-TIMEZONE:Europe/Madrid
DESCRIPTION:Durant tota la Festa Major a qualsevol lloc i horari

URI:https://www.castellbisbal.cat/actualitat/agenda/els-imprevistos.html
CLASS:PUBLIC
END:VEVENT
END:VCALENDAR
