BEGIN:VCALENDAR
VERSION:2.0
CALSCALE:GREGORIAN
PRODID:-//Diputació de Barcelona//DibaCMS//EN
BEGIN:VEVENT
UID:15100
DTSTAMP:20260423T164439
DTSTART:20220817T200000
DTEND:20220817T200000
SUMMARY:Escenari Boig
LOCATION:Avinguda Gaudí 08755 Castellbisbal
METHOD:PUBLISH
X-WR-CALNAME:comunicacio@castellbisbal.cat
X-WR-TIMEZONE:Europe/Madrid
DESCRIPTION:A la Bassa (av. Gaudí)

URI:https://www.castellbisbal.cat/actualitat/agenda/escenari-boig.html
CLASS:PUBLIC
END:VEVENT
END:VCALENDAR
