BEGIN:VCALENDAR
VERSION:2.0
CALSCALE:GREGORIAN
PRODID:-//Diputació de Barcelona//DibaCMS//EN
BEGIN:VEVENT
UID:15101
DTSTAMP:20260424T053059
DTSTART:20220818T223000
DTEND:20220818T223000
SUMMARY:Nit del curtcircuit
LOCATION:Avinguda Gaudí 08755 Castellbisbal
METHOD:PUBLISH
X-WR-CALNAME:comunicacio@castellbisbal.cat
X-WR-TIMEZONE:Europe/Madrid
DESCRIPTION:Activitat itinerant amb inici a la Bassa (av. Gaudí)

URI:https://www.castellbisbal.cat/actualitat/agenda/nit-del-curtcircuit.html
CLASS:PUBLIC
END:VEVENT
END:VCALENDAR
