BEGIN:VCALENDAR
VERSION:2.0
CALSCALE:GREGORIAN
PRODID:-//Diputació de Barcelona//DibaCMS//EN
BEGIN:VEVENT
UID:15103
DTSTAMP:20260423T071647
DTSTART:20220821T184500
DTEND:20220821T184500
SUMMARY:Daltabaix 2022
LOCATION:
METHOD:PUBLISH
X-WR-CALNAME:comunicacio@castellbisbal.cat
X-WR-TIMEZONE:Europe/Madrid
DESCRIPTION:Activitat itinerant amb inici a la cruïlla entre el carrer Major i el c. Orient

URI:https://www.castellbisbal.cat/actualitat/agenda/daltabaix-2022.html
CLASS:PUBLIC
END:VEVENT
END:VCALENDAR
