BEGIN:VCALENDAR
VERSION:2.0
CALSCALE:GREGORIAN
PRODID:-//Diputació de Barcelona//DibaCMS//EN
BEGIN:VEVENT
UID:15104
DTSTAMP:20260423T040758
DTSTART:20220812T100000
DTEND:20220821T140000
SUMMARY:La Botiga de la Festa Major
LOCATION:Av. de Pau Casals, 16 08755 Castellbisbal
METHOD:PUBLISH
X-WR-CALNAME:comunicacio@castellbisbal.cat
X-WR-TIMEZONE:Europe/Madrid
DESCRIPTION:A la sala d'exposicions d'Els Costals

URI:https://www.castellbisbal.cat/actualitat/agenda/la-botiga-de-la-festa-major.html
CLASS:PUBLIC
END:VEVENT
END:VCALENDAR
