BEGIN:VCALENDAR
VERSION:2.0
CALSCALE:GREGORIAN
PRODID:-//Diputació de Barcelona//DibaCMS//EN
BEGIN:VEVENT
UID:15109
DTSTAMP:20260423T153738
DTSTART:20220817T230000
DTEND:20220817T230000
SUMMARY:Concert amb Fundación Tony Manero (1996-2022)
LOCATION:Parc de l'Ermita 08755 Castellbisbal
METHOD:PUBLISH
X-WR-CALNAME:comunicacio@castellbisbal.cat
X-WR-TIMEZONE:Europe/Madrid
DESCRIPTION:Parc de l'Ermita

URI:https://www.castellbisbal.cat/actualitat/agenda/concert-amb-fundacion-tony-manero-1996-2022.html
CLASS:PUBLIC
END:VEVENT
END:VCALENDAR
