BEGIN:VCALENDAR
VERSION:2.0
CALSCALE:GREGORIAN
PRODID:-//Diputació de Barcelona//DibaCMS//EN
BEGIN:VEVENT
UID:15110
DTSTAMP:20260423T172051
DTSTART:20220817T230000
DTEND:20220817T230000
SUMMARY:Concert amb Rocktambuls
LOCATION:Parc de l'Ermita 08755 Castellbisbal
METHOD:PUBLISH
X-WR-CALNAME:comunicacio@castellbisbal.cat
X-WR-TIMEZONE:Europe/Madrid
DESCRIPTION:Tot seguit al Parc de l'Ermita

URI:https://www.castellbisbal.cat/actualitat/agenda/concert-amb-rocktambuls.html
CLASS:PUBLIC
END:VEVENT
END:VCALENDAR
