BEGIN:VCALENDAR
VERSION:2.0
CALSCALE:GREGORIAN
PRODID:-//Diputació de Barcelona//DibaCMS//EN
BEGIN:VEVENT
UID:15111
DTSTAMP:20260423T153900
DTSTART:20220818T020000
DTEND:20220818T020000
SUMMARY:Carnaval d'Estiu
LOCATION:Parc de l'Ermita 08755 Castellbisbal
METHOD:PUBLISH
X-WR-CALNAME:comunicacio@castellbisbal.cat
X-WR-TIMEZONE:Europe/Madrid
DESCRIPTION:Parc de l'Ermita

URI:https://www.castellbisbal.cat/actualitat/agenda/15111-carnaval-destiu.html
CLASS:PUBLIC
END:VEVENT
END:VCALENDAR
