BEGIN:VCALENDAR
VERSION:2.0
CALSCALE:GREGORIAN
PRODID:-//Diputació de Barcelona//DibaCMS//EN
BEGIN:VEVENT
UID:15113
DTSTAMP:20260423T122347
DTSTART:20220818T103000
DTEND:20220818T103000
SUMMARY:Les Destreses Pota-Roges
LOCATION:Països Catalans, 30 08755 Castellbisbal
METHOD:PUBLISH
X-WR-CALNAME:comunicacio@castellbisbal.cat
X-WR-TIMEZONE:Europe/Madrid
DESCRIPTION:Parc de les Destreses (entre la variant i el carrer dels Països Catalans) Can Cases de l'Església

URI:https://www.castellbisbal.cat/actualitat/agenda/15113-les-destreses-pota-roges.html
CLASS:PUBLIC
END:VEVENT
END:VCALENDAR
