BEGIN:VCALENDAR
VERSION:2.0
CALSCALE:GREGORIAN
PRODID:-//Diputació de Barcelona//DibaCMS//EN
BEGIN:VEVENT
UID:15115
DTSTAMP:20260424T203303
DTSTART:20220818T170000
DTEND:20220818T170000
SUMMARY:Torneig de 3X3 pels 30 anys del Club Bàsquet Castellbisbal
LOCATION:Av. de Pau Casals, 20 08755 Castellbisbal
METHOD:PUBLISH
X-WR-CALNAME:comunicacio@castellbisbal.cat
X-WR-TIMEZONE:Europe/Madrid
DESCRIPTION:Pista coberta i pavelló de l'Escola Montserrat

URI:https://www.castellbisbal.cat/actualitat/agenda/torneig-de-3x3-pels-30-anys-del-club-basquet-castellbisbal.html
CLASS:PUBLIC
END:VEVENT
END:VCALENDAR
