BEGIN:VCALENDAR
VERSION:2.0
CALSCALE:GREGORIAN
PRODID:-//Diputació de Barcelona//DibaCMS//EN
BEGIN:VEVENT
UID:15116
DTSTAMP:20260424T221850
DTSTART:20220818T180000
DTEND:20220818T180000
SUMMARY:Tarda de jocs tradicionals
LOCATION:Plaça de l'Església 08755 Castellbisbal
METHOD:PUBLISH
X-WR-CALNAME:comunicacio@castellbisbal.cat
X-WR-TIMEZONE:Europe/Madrid
DESCRIPTION:Pati de l'Esbarjo

URI:https://www.castellbisbal.cat/actualitat/agenda/tarda-de-jocs-tradicionals.html
CLASS:PUBLIC
END:VEVENT
END:VCALENDAR
