BEGIN:VCALENDAR
VERSION:2.0
CALSCALE:GREGORIAN
PRODID:-//Diputació de Barcelona//DibaCMS//EN
BEGIN:VEVENT
UID:15118
DTSTAMP:20260424T092625
DTSTART:20220818T200000
DTEND:20220818T200000
SUMMARY:La Baixada
LOCATION:Carrer dels Ametllers, de Sant Joan i avinguda de Pau Casals 
METHOD:PUBLISH
X-WR-CALNAME:comunicacio@castellbisbal.cat
X-WR-TIMEZONE:Europe/Madrid
DESCRIPTION:Carrer dels Ametllers, de Sant Joan i avinguda de Pau Casals

URI:https://www.castellbisbal.cat/actualitat/agenda/la-baixada.html
CLASS:PUBLIC
END:VEVENT
END:VCALENDAR
