BEGIN:VCALENDAR
VERSION:2.0
CALSCALE:GREGORIAN
PRODID:-//Diputació de Barcelona//DibaCMS//EN
BEGIN:VEVENT
UID:15119
DTSTAMP:20260423T102037
DTSTART:20220818T210000
DTEND:20220818T210000
SUMMARY:Concert i ball amb La Chatta
LOCATION:08755 Castellbisbal
METHOD:PUBLISH
X-WR-CALNAME:comunicacio@castellbisbal.cat
X-WR-TIMEZONE:Europe/Madrid
DESCRIPTION:Pista d'estiu del Casal Cultural i Recretatiu

URI:https://www.castellbisbal.cat/actualitat/agenda/concert-i-ball-amb-la-chatta.html
CLASS:PUBLIC
END:VEVENT
END:VCALENDAR
