BEGIN:VCALENDAR
VERSION:2.0
CALSCALE:GREGORIAN
PRODID:-//Diputació de Barcelona//DibaCMS//EN
BEGIN:VEVENT
UID:15121
DTSTAMP:20260423T085702
DTSTART:20220818T230000
DTEND:20220818T230000
SUMMARY:Jazz amb Wax&Boogie
LOCATION:Plaça del Joc 08755 Castellbisbal
METHOD:PUBLISH
X-WR-CALNAME:comunicacio@castellbisbal.cat
X-WR-TIMEZONE:Europe/Madrid
DESCRIPTION:Plaça del Joc

URI:https://www.castellbisbal.cat/actualitat/agenda/jazz-amb-waxandboogie.html
CLASS:PUBLIC
END:VEVENT
END:VCALENDAR
