BEGIN:VCALENDAR
VERSION:2.0
CALSCALE:GREGORIAN
PRODID:-//Diputació de Barcelona//DibaCMS//EN
BEGIN:VEVENT
UID:15122
DTSTAMP:20260423T154109
DTSTART:20220818T233000
DTEND:20220818T233000
SUMMARY:Concert amb Les Montses
LOCATION:Parc de l'Ermita 08755 Castellbisbal
METHOD:PUBLISH
X-WR-CALNAME:comunicacio@castellbisbal.cat
X-WR-TIMEZONE:Europe/Madrid
DESCRIPTION:Parc de l'Ermita

URI:https://www.castellbisbal.cat/actualitat/agenda/concert-amb-les-montses.html
CLASS:PUBLIC
END:VEVENT
END:VCALENDAR
