BEGIN:VCALENDAR
VERSION:2.0
CALSCALE:GREGORIAN
PRODID:-//Diputació de Barcelona//DibaCMS//EN
BEGIN:VEVENT
UID:15125
DTSTAMP:20260424T203445
DTSTART:20220819T110000
DTEND:20220819T110000
SUMMARY:Aquafesta amb el grup Més Tumàcat
LOCATION:08755 Castellbisbal
METHOD:PUBLISH
X-WR-CALNAME:comunicacio@castellbisbal.cat
X-WR-TIMEZONE:Europe/Madrid
DESCRIPTION:Plaça de l'Església

URI:https://www.castellbisbal.cat/actualitat/agenda/aquafesta-amb-el-grup-mes-tumacat.html
CLASS:PUBLIC
END:VEVENT
END:VCALENDAR
