BEGIN:VCALENDAR
VERSION:2.0
CALSCALE:GREGORIAN
PRODID:-//Diputació de Barcelona//DibaCMS//EN
BEGIN:VEVENT
UID:15130
DTSTAMP:20260423T101529
DTSTART:20220819T211500
DTEND:20220819T211500
SUMMARY:Tabalada infantil
LOCATION:La Bassa (av. Gaudí) 
METHOD:PUBLISH
X-WR-CALNAME:comunicacio@castellbisbal.cat
X-WR-TIMEZONE:Europe/Madrid
DESCRIPTION:La Bassa (av. Gaudí)

URI:https://www.castellbisbal.cat/actualitat/agenda/tabalada-infantil.html
CLASS:PUBLIC
END:VEVENT
END:VCALENDAR
