BEGIN:VCALENDAR
VERSION:2.0
CALSCALE:GREGORIAN
PRODID:-//Diputació de Barcelona//DibaCMS//EN
BEGIN:VEVENT
UID:15133
DTSTAMP:20260423T072211
DTSTART:20220819T220000
DTEND:20220819T220000
SUMMARY:Empaitafoc infantil
LOCATION:08755 Castellbisbal
METHOD:PUBLISH
X-WR-CALNAME:comunicacio@castellbisbal.cat
X-WR-TIMEZONE:Europe/Madrid
DESCRIPTION:Inici a la Plaça de l'Església

URI:https://www.castellbisbal.cat/actualitat/agenda/15133-empaitafoc-infantil.html
CLASS:PUBLIC
END:VEVENT
END:VCALENDAR
