BEGIN:VCALENDAR
VERSION:2.0
CALSCALE:GREGORIAN
PRODID:-//Diputació de Barcelona//DibaCMS//EN
BEGIN:VEVENT
UID:15134
DTSTAMP:20260423T072104
DTSTART:20220819T223000
DTEND:20220819T223000
SUMMARY:Concert amb l'Orquestra Maribel
LOCATION:08755 Castellbisbal
METHOD:PUBLISH
X-WR-CALNAME:comunicacio@castellbisbal.cat
X-WR-TIMEZONE:Europe/Madrid
DESCRIPTION:Plaça de l'Església

URI:https://www.castellbisbal.cat/actualitat/agenda/concert-amb-lorquestra-maribel.html
CLASS:PUBLIC
END:VEVENT
END:VCALENDAR
