BEGIN:VCALENDAR
VERSION:2.0
CALSCALE:GREGORIAN
PRODID:-//Diputació de Barcelona//DibaCMS//EN
BEGIN:VEVENT
UID:15136
DTSTAMP:20260423T140226
DTSTART:20220819T230000
DTEND:20220819T230000
SUMMARY:Concert de jazz amb Clara Gispert
LOCATION:Plaça del Joc 08755 Castellbisbal
METHOD:PUBLISH
X-WR-CALNAME:comunicacio@castellbisbal.cat
X-WR-TIMEZONE:Europe/Madrid
DESCRIPTION:Plaça del Joc

URI:https://www.castellbisbal.cat/actualitat/agenda/concert-de-jazz-amb-clara-gispert.html
CLASS:PUBLIC
END:VEVENT
END:VCALENDAR
