BEGIN:VCALENDAR
VERSION:2.0
CALSCALE:GREGORIAN
PRODID:-//Diputació de Barcelona//DibaCMS//EN
BEGIN:VEVENT
UID:15138
DTSTAMP:20260423T154247
DTSTART:20220820T000000
DTEND:20220820T000000
SUMMARY:Concert amb The Tyets
LOCATION:Parc Folch i Torres 08755 Castellbisbal
METHOD:PUBLISH
X-WR-CALNAME:comunicacio@castellbisbal.cat
X-WR-TIMEZONE:Europe/Madrid
DESCRIPTION:Tot seguit a l'Envelat del parc de Folch i Torres

URI:https://www.castellbisbal.cat/actualitat/agenda/concert-amb-the-tyets.html
CLASS:PUBLIC
END:VEVENT
END:VCALENDAR
