BEGIN:VCALENDAR
VERSION:2.0
CALSCALE:GREGORIAN
PRODID:-//Diputació de Barcelona//DibaCMS//EN
BEGIN:VEVENT
UID:15141
DTSTAMP:20260424T105155
DTSTART:20220820T090000
DTEND:20220820T090000
SUMMARY:Esmorzar de Festa Major
LOCATION:Plaça de l'Església 08755 Castellbisbal
METHOD:PUBLISH
X-WR-CALNAME:comunicacio@castellbisbal.cat
X-WR-TIMEZONE:Europe/Madrid
DESCRIPTION:Pati de l'Esbarjo

URI:https://www.castellbisbal.cat/actualitat/agenda/15141-esmorzar-de-festa-major.html
CLASS:PUBLIC
END:VEVENT
END:VCALENDAR
