BEGIN:VCALENDAR
VERSION:2.0
CALSCALE:GREGORIAN
PRODID:-//Diputació de Barcelona//DibaCMS//EN
BEGIN:VEVENT
UID:15142
DTSTAMP:20260424T034034
DTSTART:20220820T100000
DTEND:20220820T100000
SUMMARY:Esmorzar i campionat de tir al plat
LOCATION:Camp de tir de la Verdolaga 
METHOD:PUBLISH
X-WR-CALNAME:comunicacio@castellbisbal.cat
X-WR-TIMEZONE:Europe/Madrid
DESCRIPTION:Camp de tir de la Verdolaga

URI:https://www.castellbisbal.cat/actualitat/agenda/esmorzar-i-campionat-de-tir-al-plat.html
CLASS:PUBLIC
END:VEVENT
END:VCALENDAR
