BEGIN:VCALENDAR
VERSION:2.0
CALSCALE:GREGORIAN
PRODID:-//Diputació de Barcelona//DibaCMS//EN
BEGIN:VEVENT
UID:15143
DTSTAMP:20260423T185817
DTSTART:20220820T103000
DTEND:20220820T103000
SUMMARY:Torneig de ràpides d'escacs
LOCATION:Av. de Pau Casals, 16 08755 Castellbisbal
METHOD:PUBLISH
X-WR-CALNAME:comunicacio@castellbisbal.cat
X-WR-TIMEZONE:Europe/Madrid
DESCRIPTION:Plaça d'Els Costals

URI:https://www.castellbisbal.cat/actualitat/agenda/15143-torneig-de-rapides-descacs.html
CLASS:PUBLIC
END:VEVENT
END:VCALENDAR
