BEGIN:VCALENDAR
VERSION:2.0
CALSCALE:GREGORIAN
PRODID:-//Diputació de Barcelona//DibaCMS//EN
BEGIN:VEVENT
UID:15144
DTSTAMP:20260423T222856
DTSTART:20220820T103000
DTEND:20220820T103000
SUMMARY:Taller obert de jocs de rol
LOCATION:Av. de Pau Casals, 16 08755 Castellbisbal
METHOD:PUBLISH
X-WR-CALNAME:comunicacio@castellbisbal.cat
X-WR-TIMEZONE:Europe/Madrid
DESCRIPTION:Espai Foier d'Els Costals

URI:https://www.castellbisbal.cat/actualitat/agenda/taller-obert-de-jocs-de-rol.html
CLASS:PUBLIC
END:VEVENT
END:VCALENDAR
