BEGIN:VCALENDAR
VERSION:2.0
CALSCALE:GREGORIAN
PRODID:-//Diputació de Barcelona//DibaCMS//EN
BEGIN:VEVENT
UID:15145
DTSTAMP:20260423T122454
DTSTART:20220820T110000
DTEND:20220820T110000
SUMMARY:Ofici de Festa Major
LOCATION:Plaça de l'Església 1 08755 Castellbisbal
METHOD:PUBLISH
X-WR-CALNAME:comunicacio@castellbisbal.cat
X-WR-TIMEZONE:Europe/Madrid
DESCRIPTION:Església Parroquial

URI:https://www.castellbisbal.cat/actualitat/agenda/15145-ofici-de-festa-major.html
CLASS:PUBLIC
END:VEVENT
END:VCALENDAR
