BEGIN:VCALENDAR
VERSION:2.0
CALSCALE:GREGORIAN
PRODID:-//Diputació de Barcelona//DibaCMS//EN
BEGIN:VEVENT
UID:15147
DTSTAMP:20260423T225651
DTSTART:20220820T120000
DTEND:20220820T120000
SUMMARY:XXVI Campionat joc de bitlles Ronda de Rei
LOCATION:Carrer Major, davant del pati de l'Esbarjo 
METHOD:PUBLISH
X-WR-CALNAME:comunicacio@castellbisbal.cat
X-WR-TIMEZONE:Europe/Madrid
DESCRIPTION:Carrer Major, davant del pati de l'Esbarjo

URI:https://www.castellbisbal.cat/actualitat/agenda/xxvi-campionat-joc-de-bitlles-ronda-de-rei.html
CLASS:PUBLIC
END:VEVENT
END:VCALENDAR
