BEGIN:VCALENDAR
VERSION:2.0
CALSCALE:GREGORIAN
PRODID:-//Diputació de Barcelona//DibaCMS//EN
BEGIN:VEVENT
UID:15149
DTSTAMP:20260424T234725
DTSTART:20220820T170000
DTEND:20220820T170000
SUMMARY:La cursa dels lents
LOCATION:Carrer de Pi i Maragall, des de la Plaça de l'Església al Museu (La Banana) 
METHOD:PUBLISH
X-WR-CALNAME:comunicacio@castellbisbal.cat
X-WR-TIMEZONE:Europe/Madrid
DESCRIPTION:Carrer de Pi i Maragall, des de la Plaça de l'Església al Museu (La Banana)

URI:https://www.castellbisbal.cat/actualitat/agenda/15149-la-cursa-dels-lents.html
CLASS:PUBLIC
END:VEVENT
END:VCALENDAR
