BEGIN:VCALENDAR
VERSION:2.0
CALSCALE:GREGORIAN
PRODID:-//Diputació de Barcelona//DibaCMS//EN
BEGIN:VEVENT
UID:15150
DTSTAMP:20260424T203053
DTSTART:20220820T170000
DTEND:20220820T170000
SUMMARY:El minigolf
LOCATION:Parc de l'Ermita 08755 Castellbisbal
METHOD:PUBLISH
X-WR-CALNAME:comunicacio@castellbisbal.cat
X-WR-TIMEZONE:Europe/Madrid
DESCRIPTION:Parc de l'Ermita

URI:https://www.castellbisbal.cat/actualitat/agenda/el-minigolf.html
CLASS:PUBLIC
END:VEVENT
END:VCALENDAR
