BEGIN:VCALENDAR
VERSION:2.0
CALSCALE:GREGORIAN
PRODID:-//Diputació de Barcelona//DibaCMS//EN
BEGIN:VEVENT
UID:15151
DTSTAMP:20260423T121422
DTSTART:20220820T180000
DTEND:20220820T180000
SUMMARY:Còctels sense alcohol per a xics
LOCATION:Parc de l'Ermita 08755 Castellbisbal
METHOD:PUBLISH
X-WR-CALNAME:comunicacio@castellbisbal.cat
X-WR-TIMEZONE:Europe/Madrid
DESCRIPTION:Parc de l'Ermita

URI:https://www.castellbisbal.cat/actualitat/agenda/coctels-sense-alcohol-per-a-xics.html
CLASS:PUBLIC
END:VEVENT
END:VCALENDAR
