BEGIN:VCALENDAR
VERSION:2.0
CALSCALE:GREGORIAN
PRODID:-//Diputació de Barcelona//DibaCMS//EN
BEGIN:VEVENT
UID:15152
DTSTAMP:20260423T135914
DTSTART:20220820T183000
DTEND:20220820T183000
SUMMARY:Concert de la Xarxa amb Reggae per Xics
LOCATION:Parc de l'Ermita 08755 Castellbisbal
METHOD:PUBLISH
X-WR-CALNAME:comunicacio@castellbisbal.cat
X-WR-TIMEZONE:Europe/Madrid
DESCRIPTION:Parc de l'Ermita

URI:https://www.castellbisbal.cat/actualitat/agenda/concert-de-la-xarxa-amb-reggae-per-xics.html
CLASS:PUBLIC
END:VEVENT
END:VCALENDAR
