BEGIN:VCALENDAR
VERSION:2.0
CALSCALE:GREGORIAN
PRODID:-//Diputació de Barcelona//DibaCMS//EN
BEGIN:VEVENT
UID:15153
DTSTAMP:20260423T140024
DTSTART:20220820T190000
DTEND:20220820T190000
SUMMARY:Partit: primer equip de la Unió Esportiva Castellbisbal contra FC Santboià
LOCATION:C. Agricultura, s/n 08755 Castellbisbal
METHOD:PUBLISH
X-WR-CALNAME:comunicacio@castellbisbal.cat
X-WR-TIMEZONE:Europe/Madrid
DESCRIPTION:Camp de futbol de L'Illa Esportiva

URI:https://www.castellbisbal.cat/actualitat/agenda/partit-primer-equip-de-la-unio-esportiva-castellbisbal-contra-fc-santboia.html
CLASS:PUBLIC
END:VEVENT
END:VCALENDAR
