BEGIN:VCALENDAR
VERSION:2.0
CALSCALE:GREGORIAN
PRODID:-//Diputació de Barcelona//DibaCMS//EN
BEGIN:VEVENT
UID:15154
DTSTAMP:20260424T064243
DTSTART:20220820T190000
DTEND:20220820T190000
SUMMARY:Teatre de Festa Major amb El sopar dels idiotes
LOCATION:Av. de Pau Casals, 16 08755 Castellbisbal
METHOD:PUBLISH
X-WR-CALNAME:comunicacio@castellbisbal.cat
X-WR-TIMEZONE:Europe/Madrid
DESCRIPTION:Auditori d'Els Costals

URI:https://www.castellbisbal.cat/actualitat/agenda/teatre-de-festa-major-amb-el-sopar-dels-idiotes.html
CLASS:PUBLIC
END:VEVENT
END:VCALENDAR
