BEGIN:VCALENDAR
VERSION:2.0
CALSCALE:GREGORIAN
PRODID:-//Diputació de Barcelona//DibaCMS//EN
BEGIN:VEVENT
UID:15155
DTSTAMP:20260424T142033
DTSTART:20220820T200000
DTEND:20220820T200000
SUMMARY:Circ al parc amb Ni cap ni peus
LOCATION:Parc de l'Ermita 08755 Castellbisbal
METHOD:PUBLISH
X-WR-CALNAME:comunicacio@castellbisbal.cat
X-WR-TIMEZONE:Europe/Madrid
DESCRIPTION:Parc de l'Ermita

URI:https://www.castellbisbal.cat/actualitat/agenda/circ-al-parc-amb-ni-cap-ni-peus.html
CLASS:PUBLIC
END:VEVENT
END:VCALENDAR
