BEGIN:VCALENDAR
VERSION:2.0
CALSCALE:GREGORIAN
PRODID:-//Diputació de Barcelona//DibaCMS//EN
BEGIN:VEVENT
UID:15156
DTSTAMP:20260423T231636
DTSTART:20220820T203000
DTEND:20220820T203000
SUMMARY:Concert amb Bóssalo
LOCATION:L'Envelat del parc de Folch i Torres 
METHOD:PUBLISH
X-WR-CALNAME:comunicacio@castellbisbal.cat
X-WR-TIMEZONE:Europe/Madrid
DESCRIPTION:L'Envelat del parc de Folch i Torres

URI:https://www.castellbisbal.cat/actualitat/agenda/concert-amb-bossalo.html
CLASS:PUBLIC
END:VEVENT
END:VCALENDAR
