BEGIN:VCALENDAR
VERSION:2.0
CALSCALE:GREGORIAN
PRODID:-//Diputació de Barcelona//DibaCMS//EN
BEGIN:VEVENT
UID:15158
DTSTAMP:20260424T160558
DTSTART:20220820T213000
DTEND:20220820T213000
SUMMARY:Arribada del personatge
LOCATION:08755 Castellbisbal
METHOD:PUBLISH
X-WR-CALNAME:comunicacio@castellbisbal.cat
X-WR-TIMEZONE:Europe/Madrid
DESCRIPTION:Plaça de l'Església

URI:https://www.castellbisbal.cat/actualitat/agenda/15158-arribada-del-personatge.html
CLASS:PUBLIC
END:VEVENT
END:VCALENDAR
