BEGIN:VCALENDAR
VERSION:2.0
CALSCALE:GREGORIAN
PRODID:-//Diputació de Barcelona//DibaCMS//EN
BEGIN:VEVENT
UID:15160
DTSTAMP:20260424T234814
DTSTART:20220820T230000
DTEND:20220820T230000
SUMMARY:Ball de l'empaitafoc amb l'orquestra Gira-sol
LOCATION:08755 Castellbisbal
METHOD:PUBLISH
X-WR-CALNAME:comunicacio@castellbisbal.cat
X-WR-TIMEZONE:Europe/Madrid
DESCRIPTION:Plaça de l'Església

URI:https://www.castellbisbal.cat/actualitat/agenda/ball-de-lempaitafoc-amb-lorquestra-gira-sol.html
CLASS:PUBLIC
END:VEVENT
END:VCALENDAR
