BEGIN:VCALENDAR
VERSION:2.0
CALSCALE:GREGORIAN
PRODID:-//Diputació de Barcelona//DibaCMS//EN
BEGIN:VEVENT
UID:15162
DTSTAMP:20260424T193828
DTSTART:20220821T034500
DTEND:20220821T034500
SUMMARY:Tractor Trànsit "Em va preguntar" Sound System
LOCATION:Itinerant, inici a c. Sant Mateu 
METHOD:PUBLISH
X-WR-CALNAME:comunicacio@castellbisbal.cat
X-WR-TIMEZONE:Europe/Madrid
DESCRIPTION:Itinerant, inici a c. Sant Mateu

URI:https://www.castellbisbal.cat/actualitat/agenda/tractor-transit-em-va-preguntar-sound-system.html
CLASS:PUBLIC
END:VEVENT
END:VCALENDAR
