BEGIN:VCALENDAR
VERSION:2.0
CALSCALE:GREGORIAN
PRODID:-//Diputació de Barcelona//DibaCMS//EN
BEGIN:VEVENT
UID:15163
DTSTAMP:20260423T223409
DTSTART:20220821T093000
DTEND:20220821T093000
SUMMARY:Melé de petanca de Festa Major
LOCATION:C. Agricultura, s/n 08755 Castellbisbal
METHOD:PUBLISH
X-WR-CALNAME:comunicacio@castellbisbal.cat
X-WR-TIMEZONE:Europe/Madrid
DESCRIPTION:Pistes de petanca de L'Illa Esportiva

URI:https://www.castellbisbal.cat/actualitat/agenda/15163-mele-de-petanca-de-festa-major.html
CLASS:PUBLIC
END:VEVENT
END:VCALENDAR
