BEGIN:VCALENDAR
VERSION:2.0
CALSCALE:GREGORIAN
PRODID:-//Diputació de Barcelona//DibaCMS//EN
BEGIN:VEVENT
UID:15164
DTSTAMP:20260423T154323
DTSTART:20220821T094500
DTEND:20220821T094500
SUMMARY:Cursa atlètica infantil de Festa Major Solidària
LOCATION:Circuit urbà, sortida de l'av. Pau Casals, davant de l'Escola Montserrat 
METHOD:PUBLISH
X-WR-CALNAME:comunicacio@castellbisbal.cat
X-WR-TIMEZONE:Europe/Madrid
DESCRIPTION:Circuit urbà, sortida de l'av. Pau Casals, davant de l'Escola Montserrat

URI:https://www.castellbisbal.cat/actualitat/agenda/15164-cursa-atletica-infantil-de-festa-major-solidaria.html
CLASS:PUBLIC
END:VEVENT
END:VCALENDAR
