BEGIN:VCALENDAR
VERSION:2.0
CALSCALE:GREGORIAN
PRODID:-//Diputació de Barcelona//DibaCMS//EN
BEGIN:VEVENT
UID:15166
DTSTAMP:20260424T015835
DTSTART:20220821T100000
DTEND:20220821T100000
SUMMARY:24a Exposició de tractors d'època
LOCATION:C. Comunicacions, 8 08755 Castellbisbal
METHOD:PUBLISH
X-WR-CALNAME:comunicacio@castellbisbal.cat
X-WR-TIMEZONE:Europe/Madrid
DESCRIPTION:Carrer de les Comunicacions, 8 (davant del Museu del Tractor)

URI:https://www.castellbisbal.cat/actualitat/agenda/24a-exposicio-de-tractors-depoca.html
CLASS:PUBLIC
END:VEVENT
END:VCALENDAR
