BEGIN:VCALENDAR
VERSION:2.0
CALSCALE:GREGORIAN
PRODID:-//Diputació de Barcelona//DibaCMS//EN
BEGIN:VEVENT
UID:15169
DTSTAMP:20260424T050740
DTSTART:20220821T120000
DTEND:20220821T120000
SUMMARY:Cercavila de tractors
LOCATION:C. Comunicacions, 8 08755 Castellbisbal
METHOD:PUBLISH
X-WR-CALNAME:comunicacio@castellbisbal.cat
X-WR-TIMEZONE:Europe/Madrid
DESCRIPTION:Itinerant, inici al Museu del Tractor

URI:https://www.castellbisbal.cat/actualitat/agenda/15169-cercavila-de-tractors.html
CLASS:PUBLIC
END:VEVENT
END:VCALENDAR
